BEGIN:VCALENDAR
VERSION:2.0
CALSCALE:GREGORIAN
BEGIN:VEVENT
DTSTART:20260514T000000
DTEND:20260517T000000
LOCATION:
DTSTAMP:20260422T212949
SUMMARY:INTERNATIONALE MARBACHER VIELSEITIGKEIT
URL;VALUE=URI:
DESCRIPTION:
UID:20260422T212949-20260514T000000-20260517T000000
END:VEVENT
END:VCALENDAR