BEGIN:VCALENDAR
VERSION:2.0
CALSCALE:GREGORIAN
BEGIN:VEVENT
DTSTART:20260514T000000
DTEND:20260514T000000
LOCATION:München-Riem
DTSTAMP:20260422T213124
SUMMARY:DSP-Fohlenauktion
URL;VALUE=URI:
DESCRIPTION:
UID:20260422T213124-20260514T000000-20260514T000000
END:VEVENT
END:VCALENDAR